BEGIN:VCALENDAR
VERSION:2.0
PRODID:-//San Francisco, CA &amp; Oakland, CA | Urbana Weed Dispensary &amp; Lounge, - ECPv6.13.2.1//NONSGML v1.0//EN
CALSCALE:GREGORIAN
METHOD:PUBLISH
X-ORIGINAL-URL:https://urbananow.com
X-WR-CALDESC:Events for San Francisco, CA &amp; Oakland, CA | Urbana Weed Dispensary &amp; Lounge,
REFRESH-INTERVAL;VALUE=DURATION:PT1H
X-Robots-Tag:noindex
X-PUBLISHED-TTL:PT1H
BEGIN:VTIMEZONE
TZID:America/Los_Angeles
BEGIN:DAYLIGHT
TZOFFSETFROM:-0800
TZOFFSETTO:-0700
TZNAME:PDT
DTSTART:20260308T100000
END:DAYLIGHT
BEGIN:STANDARD
TZOFFSETFROM:-0700
TZOFFSETTO:-0800
TZNAME:PST
DTSTART:20261101T090000
END:STANDARD
END:VTIMEZONE
BEGIN:VEVENT
DTSTART;TZID=America/Los_Angeles:20260419T130000
DTEND;TZID=America/Los_Angeles:20260419T163000
DTSTAMP:20260420T020030
CREATED:20260406T141606Z
LAST-MODIFIED:20260406T141742Z
UID:10000513-1776603600-1776616200@urbananow.com
SUMMARY:Trivia Night with Antonio
DESCRIPTION:Time: 4:00 PM – 5:30 PMLocation: Urbana LoungeDetails:Test your knowledge with Antonio hosting. \n\nGreenline 1.8g — $10 during event
URL:https://urbananow.com/event/trivia-night-with-antonio/
LOCATION:Urbana Mission Lounge\, 33 29th St\, San Francisco\, CA\, 94110\, United States
CATEGORIES:San Francisco Events
ORGANIZER;CN="Urbana Weed Dispensary":MAILTO:marketing@urbananow.com
GEO:37.743801;-122.421631
X-APPLE-STRUCTURED-LOCATION;VALUE=URI;X-ADDRESS=Urbana Mission Lounge 33 29th St San Francisco CA 94110 United States;X-APPLE-RADIUS=500;X-TITLE=33 29th St:geo:-122.421631,37.743801
END:VEVENT
BEGIN:VEVENT
DTSTART;TZID=America/Los_Angeles:20260418T180000
DTEND;TZID=America/Los_Angeles:20260418T210000
DTSTAMP:20260420T020030
CREATED:20260406T135042Z
LAST-MODIFIED:20260406T135042Z
UID:10000505-1776535200-1776546000@urbananow.com
SUMMARY:Smokey Karaoke
DESCRIPTION:4/18Time: 6:00 PM – 8:00 PMLocation: Urbana Geary LoungeDetails:Open-format karaoke in the lounge. Grab the mic\, bring your crew\, and set the vibe.
URL:https://urbananow.com/event/smokey-karaoke-3/
LOCATION:Urbana Geary Lounge\, 4811 Geary Boulevard\, Inner Richmond San Francisco\, CA\, 94118\, United States
CATEGORIES:San Francisco Events
ORGANIZER;CN="Urbana Weed Dispensary":MAILTO:marketing@urbananow.com
GEO:37.780499;-122.471161
X-APPLE-STRUCTURED-LOCATION;VALUE=URI;X-ADDRESS=Urbana Geary Lounge 4811 Geary Boulevard Inner Richmond San Francisco CA 94118 United States;X-APPLE-RADIUS=500;X-TITLE=4811 Geary Boulevard:geo:-122.471161,37.780499
END:VEVENT
BEGIN:VEVENT
DTSTART;TZID=America/Los_Angeles:20260418T130000
DTEND;TZID=America/Los_Angeles:20260418T163000
DTSTAMP:20260420T020030
CREATED:20260406T141319Z
LAST-MODIFIED:20260406T141319Z
UID:10000512-1776517200-1776529800@urbananow.com
SUMMARY:Tarot Card Reading with Kaitlyn
DESCRIPTION:Time: 1:00 PM – 4:20 PMLocation: Urbana MissionDetails:Step into a guided tarot experience with Kaitlyn. Walk-ins welcome.
URL:https://urbananow.com/event/tarot-card-reading-with-kaitlyn/
LOCATION:Urbana Mission Lounge\, 33 29th St\, San Francisco\, CA\, 94110\, United States
CATEGORIES:San Francisco Events
ORGANIZER;CN="Urbana Weed Dispensary":MAILTO:marketing@urbananow.com
GEO:37.743801;-122.421631
X-APPLE-STRUCTURED-LOCATION;VALUE=URI;X-ADDRESS=Urbana Mission Lounge 33 29th St San Francisco CA 94110 United States;X-APPLE-RADIUS=500;X-TITLE=33 29th St:geo:-122.421631,37.743801
END:VEVENT
BEGIN:VEVENT
DTSTART;TZID=America/Los_Angeles:20260418T130000
DTEND;TZID=America/Los_Angeles:20260418T160000
DTSTAMP:20260420T020030
CREATED:20260406T132029Z
LAST-MODIFIED:20260406T132030Z
UID:10000494-1776517200-1776528000@urbananow.com
SUMMARY:4/20 Buddies Dab Bar
DESCRIPTION:4/18 1–4pm\nKick off 4/20 with laid-back daytime vibes\, curated drinks\, and a playful Dad Bar takeover.
URL:https://urbananow.com/event/4-20-buddies-dab-bar/
LOCATION:Urbana Oakland\, 415 W Grand Ave\, Oakland\, CA\, 94612\, United States
CATEGORIES:Oakland Events
ORGANIZER;CN="Urbana Weed Dispensary":MAILTO:marketing@urbananow.com
END:VEVENT
BEGIN:VEVENT
DTSTART;TZID=America/Los_Angeles:20260418T120000
DTEND;TZID=America/Los_Angeles:20260418T160000
DTSTAMP:20260420T020030
CREATED:20260406T141147Z
LAST-MODIFIED:20260406T141147Z
UID:10000511-1776513600-1776528000@urbananow.com
SUMMARY:Elevated Essentials: Custom Bling Workshop
DESCRIPTION:  \nLocation: Urbana MissionDetails:Hosted by Blazed N Bedazzled. Customize and bedazzle your own pieces. \n\n$15 ticket\nPAX battery options available to decorate\n\n  \nTICKETS \nhttps://partiful.com/e/dpbnaUpxjpdMrfoJiEnC
URL:https://urbananow.com/event/elevated-essentials-custom-bling-workshop/
CATEGORIES:San Francisco Events
ORGANIZER;CN="Urbana Weed Dispensary":MAILTO:marketing@urbananow.com
END:VEVENT
BEGIN:VEVENT
DTSTART;TZID=America/Los_Angeles:20260417T170000
DTEND;TZID=America/Los_Angeles:20260417T200000
DTSTAMP:20260420T020030
CREATED:20260406T142223Z
LAST-MODIFIED:20260406T142223Z
UID:10000515-1776445200-1776456000@urbananow.com
SUMMARY:Happy Hour with Greenline
DESCRIPTION:Time: 5:00 PM – 8:00 PMLocation: Urbana MissionDetails:End the day with lounge happy hour specials. \n\nGreenline 1.8g — $10Promo code: happyhour
URL:https://urbananow.com/event/happy-hour-with-greenline-15/
LOCATION:Urbana Mission Lounge\, 33 29th St\, San Francisco\, CA\, 94110\, United States
CATEGORIES:San Francisco Events
ORGANIZER;CN="Urbana Weed Dispensary":MAILTO:marketing@urbananow.com
GEO:37.743801;-122.421631
X-APPLE-STRUCTURED-LOCATION;VALUE=URI;X-ADDRESS=Urbana Mission Lounge 33 29th St San Francisco CA 94110 United States;X-APPLE-RADIUS=500;X-TITLE=33 29th St:geo:-122.421631,37.743801
END:VEVENT
BEGIN:VEVENT
DTSTART;TZID=America/Los_Angeles:20260417T170000
DTEND;TZID=America/Los_Angeles:20260417T200000
DTSTAMP:20260420T020030
CREATED:20260406T134755Z
LAST-MODIFIED:20260406T134756Z
UID:10000504-1776445200-1776456000@urbananow.com
SUMMARY:PAX Flower Vape Showcase
DESCRIPTION:Date: Friday\, April 17Time: 5:00 PM – 8:00 PMLocation: Urbana Geary LoungeDetails:PAX hosts the lounge bar\, showcasing flower vapes. \n\nClaybourne 1g promos available — $7A guided\, elevated product experience.
URL:https://urbananow.com/event/pax-flower-vape-showcase/
LOCATION:Urbana Geary Lounge\, 4811 Geary Boulevard\, Inner Richmond San Francisco\, CA\, 94118\, United States
CATEGORIES:San Francisco Events
ORGANIZER;CN="Urbana Weed Dispensary":MAILTO:marketing@urbananow.com
GEO:37.780499;-122.471161
X-APPLE-STRUCTURED-LOCATION;VALUE=URI;X-ADDRESS=Urbana Geary Lounge 4811 Geary Boulevard Inner Richmond San Francisco CA 94118 United States;X-APPLE-RADIUS=500;X-TITLE=4811 Geary Boulevard:geo:-122.471161,37.780499
END:VEVENT
BEGIN:VEVENT
DTSTART;TZID=America/Los_Angeles:20260416T180000
DTEND;TZID=America/Los_Angeles:20260416T200000
DTSTAMP:20260420T020030
CREATED:20260406T134534Z
LAST-MODIFIED:20260406T134534Z
UID:10000503-1776362400-1776369600@urbananow.com
SUMMARY:Sip\, Smoke & Sculpt with Studio Sumi
DESCRIPTION:Date: Thursday\, April 16Time: 6:00 PM – 8:00 PMLocation: Urbana Geary LoungeDetails:Hands-on creative session with Studio Sumi. Sip\, unwind\, and sculpt in a relaxed\, social setting.
URL:https://urbananow.com/event/sip-smoke-sculpt-with-studio-sumi/
LOCATION:Urbana Geary Lounge\, 4811 Geary Boulevard\, Inner Richmond San Francisco\, CA\, 94118\, United States
CATEGORIES:San Francisco Events
ORGANIZER;CN="Urbana Weed Dispensary":MAILTO:marketing@urbananow.com
GEO:37.780499;-122.471161
X-APPLE-STRUCTURED-LOCATION;VALUE=URI;X-ADDRESS=Urbana Geary Lounge 4811 Geary Boulevard Inner Richmond San Francisco CA 94118 United States;X-APPLE-RADIUS=500;X-TITLE=4811 Geary Boulevard:geo:-122.471161,37.780499
END:VEVENT
BEGIN:VEVENT
DTSTART;TZID=America/Los_Angeles:20260415T190000
DTEND;TZID=America/Los_Angeles:20260415T210000
DTSTAMP:20260420T020030
CREATED:20260406T140752Z
LAST-MODIFIED:20260406T140752Z
UID:10000509-1776279600-1776286800@urbananow.com
SUMMARY:Puff & Purl with Fiber & Friends
DESCRIPTION:Time: 7:00 PM\nLocation: Urbana Lounge\nDetails:\nJoin Fiber & Friends knitting club for a cozy\, social crafting night
URL:https://urbananow.com/event/puff-purl-with-fiber-friends/
LOCATION:Urbana Mission Lounge\, 33 29th St\, San Francisco\, CA\, 94110\, United States
CATEGORIES:San Francisco Events
ORGANIZER;CN="Urbana Weed Dispensary":MAILTO:marketing@urbananow.com
GEO:37.743801;-122.421631
X-APPLE-STRUCTURED-LOCATION;VALUE=URI;X-ADDRESS=Urbana Mission Lounge 33 29th St San Francisco CA 94110 United States;X-APPLE-RADIUS=500;X-TITLE=33 29th St:geo:-122.421631,37.743801
END:VEVENT
BEGIN:VEVENT
DTSTART;TZID=America/Los_Angeles:20260415T180000
DTEND;TZID=America/Los_Angeles:20260415T190000
DTSTAMP:20260420T020030
CREATED:20260406T131425Z
LAST-MODIFIED:20260406T131426Z
UID:10000493-1776276000-1776279600@urbananow.com
SUMMARY:Mocktail Happy Hour with Jamie Evans + Book Signing
DESCRIPTION:Sip elevated mocktails made with Cann while meeting Jamie Evans. Includes a book signing and relaxed social hour. More details to come.
URL:https://urbananow.com/event/mocktail-happy-hour-with-jamie-evans-book-signing/
LOCATION:Urbana Oakland\, 415 W Grand Ave\, Oakland\, CA\, 94612\, United States
CATEGORIES:Oakland Events
ORGANIZER;CN="Urbana Weed Dispensary":MAILTO:marketing@urbananow.com
END:VEVENT
BEGIN:VEVENT
DTSTART;TZID=America/Los_Angeles:20260415T170000
DTEND;TZID=America/Los_Angeles:20260415T210000
DTSTAMP:20260420T020030
CREATED:20260406T133931Z
LAST-MODIFIED:20260406T133931Z
UID:10000500-1776272400-1776286800@urbananow.com
SUMMARY:Happy Hour with Greenline
DESCRIPTION:Urbana hosting a Happy Hour is Lounge w Happy Hour pricing on drinks\, snacks and a Happy Hour Lounge Menu \n10$ Greenline Teenths\, 10$ 1g Greenline Concentrate (limit 2 per product\, per customer) \nHalf Off Snacks and Beverages (limit 2 Bird Snappers per customer) \nPROMO CODE: haapyhour
URL:https://urbananow.com/event/happy-hour-with-greenline-13/
LOCATION:Urbana Geary Lounge\, 4811 Geary Boulevard\, Inner Richmond San Francisco\, CA\, 94118\, United States
CATEGORIES:San Francisco Events
ORGANIZER;CN="Urbana Weed Dispensary":MAILTO:marketing@urbananow.com
GEO:37.780499;-122.471161
X-APPLE-STRUCTURED-LOCATION;VALUE=URI;X-ADDRESS=Urbana Geary Lounge 4811 Geary Boulevard Inner Richmond San Francisco CA 94118 United States;X-APPLE-RADIUS=500;X-TITLE=4811 Geary Boulevard:geo:-122.471161,37.780499
END:VEVENT
BEGIN:VEVENT
DTSTART;TZID=America/Los_Angeles:20260413T180000
DTEND;TZID=America/Los_Angeles:20260413T200000
DTSTAMP:20260420T020030
CREATED:20260406T134354Z
LAST-MODIFIED:20260406T134355Z
UID:10000502-1776103200-1776110400@urbananow.com
SUMMARY:Mario Kart Night
DESCRIPTION:Date: Monday\, April 13Time: 6:00 PM – 8:00 PMLocation: Urbana Geary LoungeDetails:Race\, compete\, and hang with Mario Kart in the lounge. Casual play\, all skill levels welcome.
URL:https://urbananow.com/event/mario-kart-night/
LOCATION:Urbana Geary Lounge\, 4811 Geary Boulevard\, Inner Richmond San Francisco\, CA\, 94118\, United States
CATEGORIES:San Francisco Events
ORGANIZER;CN="Urbana Weed Dispensary":MAILTO:marketing@urbananow.com
GEO:37.780499;-122.471161
X-APPLE-STRUCTURED-LOCATION;VALUE=URI;X-ADDRESS=Urbana Geary Lounge 4811 Geary Boulevard Inner Richmond San Francisco CA 94118 United States;X-APPLE-RADIUS=500;X-TITLE=4811 Geary Boulevard:geo:-122.471161,37.780499
END:VEVENT
BEGIN:VEVENT
DTSTART;TZID=America/Los_Angeles:20260411T180000
DTEND;TZID=America/Los_Angeles:20260411T210000
DTSTAMP:20260420T020030
CREATED:20260406T134206Z
LAST-MODIFIED:20260406T134206Z
UID:10000501-1775930400-1775941200@urbananow.com
SUMMARY:Smokey Karaoke
DESCRIPTION:Date: Saturday\, April 11Time: 6:00 PM – 8:00 PMLocation: Urbana Geary LoungeDetails:Open-format karaoke in the lounge. Grab the mic\, bring your crew\, and set the vibe.
URL:https://urbananow.com/event/smokey-karaoke-2/
LOCATION:Urbana Geary Lounge\, 4811 Geary Boulevard\, Inner Richmond San Francisco\, CA\, 94118\, United States
CATEGORIES:San Francisco Events
ORGANIZER;CN="Urbana Weed Dispensary":MAILTO:marketing@urbananow.com
GEO:37.780499;-122.471161
X-APPLE-STRUCTURED-LOCATION;VALUE=URI;X-ADDRESS=Urbana Geary Lounge 4811 Geary Boulevard Inner Richmond San Francisco CA 94118 United States;X-APPLE-RADIUS=500;X-TITLE=4811 Geary Boulevard:geo:-122.471161,37.780499
END:VEVENT
BEGIN:VEVENT
DTSTART;TZID=America/Los_Angeles:20260411T130000
DTEND;TZID=America/Los_Angeles:20260411T160000
DTSTAMP:20260420T020030
CREATED:20260406T140445Z
LAST-MODIFIED:20260406T140446Z
UID:10000508-1775912400-1775923200@urbananow.com
SUMMARY:Community Bazaar
DESCRIPTION:Time: 1:00 PM – 5:00 PMLocation: Urbana MissionDetails:Garage sale energy meets Etsy finds and lounge vibes. \n\n$1 preroll in lounge (limit 1 per person)Featuring Fleetwood and local vendors.
URL:https://urbananow.com/event/community-bazaar-6/
LOCATION:Urbana Mission Lounge\, 33 29th St\, San Francisco\, CA\, 94110\, United States
CATEGORIES:San Francisco Events
ORGANIZER;CN="Urbana Weed Dispensary":MAILTO:marketing@urbananow.com
GEO:37.743801;-122.421631
X-APPLE-STRUCTURED-LOCATION;VALUE=URI;X-ADDRESS=Urbana Mission Lounge 33 29th St San Francisco CA 94110 United States;X-APPLE-RADIUS=500;X-TITLE=33 29th St:geo:-122.421631,37.743801
END:VEVENT
BEGIN:VEVENT
DTSTART;TZID=America/Los_Angeles:20260411T130000
DTEND;TZID=America/Los_Angeles:20260411T150000
DTSTAMP:20260420T020030
CREATED:20260406T131211Z
LAST-MODIFIED:20260406T131211Z
UID:10000492-1775912400-1775919600@urbananow.com
SUMMARY:Community Bazaar
DESCRIPTION:Shop\, connect\, and discover local vendors and creatives. A curated marketplace celebrating community and culture.
URL:https://urbananow.com/event/community-bazaar-5/
LOCATION:Urbana Oakland\, 415 W Grand Ave\, Oakland\, CA\, 94612\, United States
CATEGORIES:Oakland Events
ORGANIZER;CN="Urbana Weed Dispensary":MAILTO:marketing@urbananow.com
END:VEVENT
BEGIN:VEVENT
DTSTART;TZID=America/Los_Angeles:20260410T170000
DTEND;TZID=America/Los_Angeles:20260410T210000
DTSTAMP:20260420T020030
CREATED:20260406T133822Z
LAST-MODIFIED:20260406T133822Z
UID:10000499-1775840400-1775854800@urbananow.com
SUMMARY:Happy Hour with Greenline
DESCRIPTION:Urbana hosting a Happy Hour is Lounge w Happy Hour pricing on drinks\, snacks and a Happy Hour Lounge Menu \n10$ Greenline Teenths\, 10$ 1g Greenline Concentrate (limit 2 per product\, per customer) \nHalf Off Snacks and Beverages (limit 2 Bird Snappers per customer) \nPROMO CODE: haapyhour
URL:https://urbananow.com/event/happy-hour-with-greenline-12/
LOCATION:Urbana Geary Lounge\, 4811 Geary Boulevard\, Inner Richmond San Francisco\, CA\, 94118\, United States
CATEGORIES:San Francisco Events
ORGANIZER;CN="Urbana Weed Dispensary":MAILTO:marketing@urbananow.com
GEO:37.780499;-122.471161
X-APPLE-STRUCTURED-LOCATION;VALUE=URI;X-ADDRESS=Urbana Geary Lounge 4811 Geary Boulevard Inner Richmond San Francisco CA 94118 United States;X-APPLE-RADIUS=500;X-TITLE=4811 Geary Boulevard:geo:-122.471161,37.780499
END:VEVENT
BEGIN:VEVENT
DTSTART;TZID=America/Los_Angeles:20260410T170000
DTEND;TZID=America/Los_Angeles:20260410T200000
DTSTAMP:20260420T020030
CREATED:20260406T140335Z
LAST-MODIFIED:20260406T140336Z
UID:10000507-1775840400-1775851200@urbananow.com
SUMMARY:Happy Hour + Live Music with Joey Fabian
DESCRIPTION:Time: 5:00 PM – 8:00 PMLocation: Urbana MissionDetails:Live music from Joey Fabian paired with happy hour specials. \n\nGreenline 1.8g — $10Promo code: happyhour
URL:https://urbananow.com/event/happy-hour-live-music-with-joey-fabian/
LOCATION:Urbana Mission Lounge\, 33 29th St\, San Francisco\, CA\, 94110\, United States
CATEGORIES:San Francisco Events
ORGANIZER;CN="Urbana Weed Dispensary":MAILTO:marketing@urbananow.com
GEO:37.743801;-122.421631
X-APPLE-STRUCTURED-LOCATION;VALUE=URI;X-ADDRESS=Urbana Mission Lounge 33 29th St San Francisco CA 94110 United States;X-APPLE-RADIUS=500;X-TITLE=33 29th St:geo:-122.421631,37.743801
END:VEVENT
BEGIN:VEVENT
DTSTART;TZID=America/Los_Angeles:20260410T170000
DTEND;TZID=America/Los_Angeles:20260410T200000
DTSTAMP:20260420T020030
CREATED:20260406T131052Z
LAST-MODIFIED:20260406T131053Z
UID:10000491-1775840400-1775851200@urbananow.com
SUMMARY:PAX Bar Takeover: Feature Week
DESCRIPTION:4/10 5–8pm \nPAX takes over. Explore PAX flower vapes while enjoying: \n\nClaybourne 1g Flower — $7\nCann single + mocktail pairing — $5A hosted lounge experience with elevated sampling and education.
URL:https://urbananow.com/event/pax-bar-takeover-feature-week/
LOCATION:Urbana Oakland\, 415 W Grand Ave\, Oakland\, CA\, 94612\, United States
CATEGORIES:Oakland Events
ORGANIZER;CN="Urbana Weed Dispensary":MAILTO:marketing@urbananow.com
END:VEVENT
BEGIN:VEVENT
DTSTART;TZID=America/Los_Angeles:20260408T170000
DTEND;TZID=America/Los_Angeles:20260408T210000
DTSTAMP:20260420T020030
CREATED:20260406T133720Z
LAST-MODIFIED:20260406T134012Z
UID:10000498-1775667600-1775682000@urbananow.com
SUMMARY:Happy Hour with Greenline
DESCRIPTION:Urbana hosting a Happy Hour is Lounge w Happy Hour pricing on drinks\, snacks and a Happy Hour Lounge Menu \n10$ Greenline Teenths\, 10$ 1g Greenline Concentrate (limit 2 per product\, per customer) \nHalf Off Snacks and Beverages (limit 2 Bird Snappers per customer) \nPROMO CODE: haapyhour
URL:https://urbananow.com/event/happy-hour-with-greenline-11/
LOCATION:Urbana Geary Lounge\, 4811 Geary Boulevard\, Inner Richmond San Francisco\, CA\, 94118\, United States
CATEGORIES:San Francisco Events
ORGANIZER;CN="Urbana Weed Dispensary":MAILTO:marketing@urbananow.com
GEO:37.780499;-122.471161
X-APPLE-STRUCTURED-LOCATION;VALUE=URI;X-ADDRESS=Urbana Geary Lounge 4811 Geary Boulevard Inner Richmond San Francisco CA 94118 United States;X-APPLE-RADIUS=500;X-TITLE=4811 Geary Boulevard:geo:-122.471161,37.780499
END:VEVENT
BEGIN:VEVENT
DTSTART;TZID=America/Los_Angeles:20260406T173000
DTEND;TZID=America/Los_Angeles:20260406T200000
DTSTAMP:20260420T020030
CREATED:20260406T133524Z
LAST-MODIFIED:20260406T133524Z
UID:10000497-1775496600-1775505600@urbananow.com
SUMMARY:Championship Game Watch Party with PAX
DESCRIPTION:Date: Monday\, April 6Time: 5:30 PMLocation: Urbana Geary LoungeDetails:Catch the championship game in the lounge with PAX. Game-day energy\, community viewing\, and elevated lounge vibes.
URL:https://urbananow.com/event/championship-game-watch-party-with-pax/
LOCATION:Urbana Geary Lounge\, 4811 Geary Boulevard\, Inner Richmond San Francisco\, CA\, 94118\, United States
CATEGORIES:San Francisco Events
ORGANIZER;CN="Urbana Weed Dispensary":MAILTO:marketing@urbananow.com
GEO:37.780499;-122.471161
X-APPLE-STRUCTURED-LOCATION;VALUE=URI;X-ADDRESS=Urbana Geary Lounge 4811 Geary Boulevard Inner Richmond San Francisco CA 94118 United States;X-APPLE-RADIUS=500;X-TITLE=4811 Geary Boulevard:geo:-122.471161,37.780499
END:VEVENT
BEGIN:VEVENT
DTSTART;TZID=America/Los_Angeles:20260406T170000
DTEND;TZID=America/Los_Angeles:20260406T210000
DTSTAMP:20260420T020030
CREATED:20260406T130832Z
LAST-MODIFIED:20260406T130832Z
UID:10000490-1775494800-1775509200@urbananow.com
SUMMARY:March Madness Finals Watch Party
DESCRIPTION:Catch the finals in the lounge with PAX-sponsored small bites. Game-day energy and community vibes!
URL:https://urbananow.com/event/march-madness-finals-watch-party/
LOCATION:Urbana Oakland\, 415 W Grand Ave\, Oakland\, CA\, 94612\, United States
CATEGORIES:Oakland Events
ORGANIZER;CN="Urbana Weed Dispensary":MAILTO:marketing@urbananow.com
END:VEVENT
BEGIN:VEVENT
DTSTART;TZID=America/Los_Angeles:20260406T170000
DTEND;TZID=America/Los_Angeles:20260406T200000
DTSTAMP:20260420T020030
CREATED:20260406T140000Z
LAST-MODIFIED:20260406T140000Z
UID:10000506-1775494800-1775505600@urbananow.com
SUMMARY:March Madness Finals Watch Party
DESCRIPTION:Catch the finals with PAX-sponsored bites and lounge viewing. Game-day energy and community vibes.
URL:https://urbananow.com/event/march-madness-finals-watch-party-2/
LOCATION:Urbana Mission Lounge\, 33 29th St\, San Francisco\, CA\, 94110\, United States
CATEGORIES:San Francisco Events
ORGANIZER;CN="Urbana Weed Dispensary":MAILTO:marketing@urbananow.com
GEO:37.743801;-122.421631
X-APPLE-STRUCTURED-LOCATION;VALUE=URI;X-ADDRESS=Urbana Mission Lounge 33 29th St San Francisco CA 94110 United States;X-APPLE-RADIUS=500;X-TITLE=33 29th St:geo:-122.421631,37.743801
END:VEVENT
BEGIN:VEVENT
DTSTART;TZID=America/Los_Angeles:20260406T080000
DTEND;TZID=America/Los_Angeles:20260406T170000
DTSTAMP:20260420T020030
CREATED:20260406T140927Z
LAST-MODIFIED:20260406T140927Z
UID:10000510-1775462400-1775494800@urbananow.com
SUMMARY:Happy Hour with Greenline
DESCRIPTION:Time: 5:00 PM – 8:00 PMLocation: Urbana MissionDetails:Unwind with lounge happy hour specials. \n\nGreenline 1.8g — $10Promo code: happyhour
URL:https://urbananow.com/event/happy-hour-with-greenline-14/
LOCATION:Urbana Mission Lounge\, 33 29th St\, San Francisco\, CA\, 94110\, United States
CATEGORIES:San Francisco Events
ORGANIZER;CN="Urbana Weed Dispensary":MAILTO:marketing@urbananow.com
GEO:37.743801;-122.421631
X-APPLE-STRUCTURED-LOCATION;VALUE=URI;X-ADDRESS=Urbana Mission Lounge 33 29th St San Francisco CA 94110 United States;X-APPLE-RADIUS=500;X-TITLE=33 29th St:geo:-122.421631,37.743801
END:VEVENT
BEGIN:VEVENT
DTSTART;TZID=America/Los_Angeles:20260405T100000
DTEND;TZID=America/Los_Angeles:20260405T170000
DTSTAMP:20260420T020030
CREATED:20260330T151304Z
LAST-MODIFIED:20260330T151304Z
UID:10000487-1775383200-1775408400@urbananow.com
SUMMARY:Easter In-Store Activation
DESCRIPTION:Date: April 5Celebrate Easter with us—pre-wrapped candy will be available throughout the store while supplies last.
URL:https://urbananow.com/event/easter-in-store-activation/
LOCATION:Urbana Geary Lounge\, 4811 Geary Boulevard\, Inner Richmond San Francisco\, CA\, 94118\, United States
CATEGORIES:San Francisco Events
ORGANIZER;CN="Urbana Weed Dispensary":MAILTO:marketing@urbananow.com
GEO:37.780499;-122.471161
X-APPLE-STRUCTURED-LOCATION;VALUE=URI;X-ADDRESS=Urbana Geary Lounge 4811 Geary Boulevard Inner Richmond San Francisco CA 94118 United States;X-APPLE-RADIUS=500;X-TITLE=4811 Geary Boulevard:geo:-122.471161,37.780499
END:VEVENT
BEGIN:VEVENT
DTSTART;TZID=America/Los_Angeles:20260404T150000
DTEND;TZID=America/Los_Angeles:20260404T200000
DTSTAMP:20260420T020030
CREATED:20260330T150914Z
LAST-MODIFIED:20260330T150914Z
UID:10000485-1775314800-1775332800@urbananow.com
SUMMARY:Final Four Watch Party
DESCRIPTION:Date: April 4Time: 3PMCatch all the action with us for the Final Four. Claybourne Co. will be sponsoring food—come through\, grab a seat\, and enjoy the game.
URL:https://urbananow.com/event/final-four-watch-party-2/
LOCATION:Urbana Geary Lounge\, 4811 Geary Boulevard\, Inner Richmond San Francisco\, CA\, 94118\, United States
CATEGORIES:Oakland Events,San Francisco Events
ORGANIZER;CN="Urbana Weed Dispensary":MAILTO:marketing@urbananow.com
GEO:37.780499;-122.471161
X-APPLE-STRUCTURED-LOCATION;VALUE=URI;X-ADDRESS=Urbana Geary Lounge 4811 Geary Boulevard Inner Richmond San Francisco CA 94118 United States;X-APPLE-RADIUS=500;X-TITLE=4811 Geary Boulevard:geo:-122.471161,37.780499
END:VEVENT
BEGIN:VEVENT
DTSTART;TZID=America/Los_Angeles:20260404T120000
DTEND;TZID=America/Los_Angeles:20260404T160000
DTSTAMP:20260420T020030
CREATED:20260330T151610Z
LAST-MODIFIED:20260330T151610Z
UID:10000489-1775304000-1775318400@urbananow.com
SUMMARY:Easter Egg Painting
DESCRIPTION:Date: April 4Time: 12–4PMGet creative with our Easter Egg Painting event. Decorate your own eggs using acrylic paints—perfect for a laid-back\, hands-on experience.
URL:https://urbananow.com/event/easter-egg-painting/
LOCATION:Urbana Mission Lounge\, 33 29th St\, San Francisco\, CA\, 94110\, United States
CATEGORIES:San Francisco Events
ORGANIZER;CN="Urbana Weed Dispensary":MAILTO:marketing@urbananow.com
GEO:37.743801;-122.421631
X-APPLE-STRUCTURED-LOCATION;VALUE=URI;X-ADDRESS=Urbana Mission Lounge 33 29th St San Francisco CA 94110 United States;X-APPLE-RADIUS=500;X-TITLE=33 29th St:geo:-122.421631,37.743801
END:VEVENT
BEGIN:VEVENT
DTSTART;TZID=America/Los_Angeles:20260403T170000
DTEND;TZID=America/Los_Angeles:20260403T200000
DTSTAMP:20260420T020030
CREATED:20260330T151050Z
LAST-MODIFIED:20260330T151115Z
UID:10000486-1775235600-1775246400@urbananow.com
SUMMARY:Happy Hour
DESCRIPTION:Date: April 3Time: 5–8PMUnwind with us during Happy Hour and enjoy a relaxed lounge experience to start your weekend.
URL:https://urbananow.com/event/happy-hour/
LOCATION:Urbana Geary Lounge\, 4811 Geary Boulevard\, Inner Richmond San Francisco\, CA\, 94118\, United States
CATEGORIES:San Francisco Events
ORGANIZER;CN="Urbana Weed Dispensary":MAILTO:marketing@urbananow.com
GEO:37.780499;-122.471161
X-APPLE-STRUCTURED-LOCATION;VALUE=URI;X-ADDRESS=Urbana Geary Lounge 4811 Geary Boulevard Inner Richmond San Francisco CA 94118 United States;X-APPLE-RADIUS=500;X-TITLE=4811 Geary Boulevard:geo:-122.471161,37.780499
END:VEVENT
BEGIN:VEVENT
DTSTART;TZID=America/Los_Angeles:20260403T170000
DTEND;TZID=America/Los_Angeles:20260403T200000
DTSTAMP:20260420T020030
CREATED:20260330T150730Z
LAST-MODIFIED:20260330T150754Z
UID:10000484-1775235600-1775246400@urbananow.com
SUMMARY:First Friday: Cann Mocktail Happy Hour
DESCRIPTION:Date: April 3Time: 5–8PMKick off First Friday with elevated mocktails and exclusive deals. Enjoy a Cann single paired with a handcrafted mocktail for just $5\, featuring a Lavender Margarita. Plus\, Greenline Teenths for $8 (limit 1 per guest) and Greenline Dabs BOGO for $1.
URL:https://urbananow.com/event/first-friday-cann-mocktail-happy-hour/
LOCATION:Urbana Oakland\, 415 W Grand Ave\, Oakland\, CA\, 94612\, United States
CATEGORIES:Oakland Events
ORGANIZER;CN="Urbana Weed Dispensary":MAILTO:marketing@urbananow.com
END:VEVENT
BEGIN:VEVENT
DTSTART;TZID=America/Los_Angeles:20260403T170000
DTEND;TZID=America/Los_Angeles:20260403T190000
DTSTAMP:20260420T020030
CREATED:20260330T151442Z
LAST-MODIFIED:20260330T151443Z
UID:10000488-1775235600-1775242800@urbananow.com
SUMMARY:Happy Hour
DESCRIPTION:Date: April 3Time: 5–8PMEnjoy Greenline 1.8g for $10 during Happy Hour. Use promo code HAPPYHOUR in-store.
URL:https://urbananow.com/event/happy-hour-2/
LOCATION:Urbana Mission Lounge\, 33 29th St\, San Francisco\, CA\, 94110\, United States
CATEGORIES:San Francisco Events
ORGANIZER;CN="Urbana Weed Dispensary":MAILTO:marketing@urbananow.com
GEO:37.743801;-122.421631
X-APPLE-STRUCTURED-LOCATION;VALUE=URI;X-ADDRESS=Urbana Mission Lounge 33 29th St San Francisco CA 94110 United States;X-APPLE-RADIUS=500;X-TITLE=33 29th St:geo:-122.421631,37.743801
END:VEVENT
BEGIN:VEVENT
DTSTART;TZID=America/Los_Angeles:20260329T123000
DTEND;TZID=America/Los_Angeles:20260329T200000
DTSTAMP:20260420T020030
CREATED:20260311T201554Z
LAST-MODIFIED:20260311T201554Z
UID:10000482-1774787400-1774814400@urbananow.com
SUMMARY:March Madness Watch Party
DESCRIPTION:Sunday\, March 29\nUrbana LoungesGames Begin: 10 AM \nClose out the weekend with March Madness in the Lounge\, hosted alongside Miss Grass. Catch Sunday’s games live while connecting with the community in a relaxed lounge setting. \nGood company\, big screens\, and all the tournament energy.
URL:https://urbananow.com/event/march-madness-watch-party/
LOCATION:Urbana Geary Lounge\, 4811 Geary Boulevard\, Inner Richmond San Francisco\, CA\, 94118\, United States
CATEGORIES:Oakland Events,San Francisco Events
ORGANIZER;CN="Urbana Weed Dispensary":MAILTO:marketing@urbananow.com
GEO:37.780499;-122.471161
X-APPLE-STRUCTURED-LOCATION;VALUE=URI;X-ADDRESS=Urbana Geary Lounge 4811 Geary Boulevard Inner Richmond San Francisco CA 94118 United States;X-APPLE-RADIUS=500;X-TITLE=4811 Geary Boulevard:geo:-122.471161,37.780499
END:VEVENT
END:VCALENDAR