BEGIN:VCALENDAR
VERSION:2.0
PRODID:-//San Francisco, CA &amp; Oakland, CA | Urbana Weed Dispensary &amp; Lounge, - ECPv6.13.2.1//NONSGML v1.0//EN
CALSCALE:GREGORIAN
METHOD:PUBLISH
X-WR-CALNAME:San Francisco, CA &amp; Oakland, CA | Urbana Weed Dispensary &amp; Lounge,
X-ORIGINAL-URL:https://urbananow.com
X-WR-CALDESC:Events for San Francisco, CA &amp; Oakland, CA | Urbana Weed Dispensary &amp; Lounge,
REFRESH-INTERVAL;VALUE=DURATION:PT1H
X-Robots-Tag:noindex
X-PUBLISHED-TTL:PT1H

BEGIN:VEVENT
DTSTART;TZID=America/Los_Angeles:20231012T183000
DTEND;TZID=America/Los_Angeles:20231012T203000
DTSTAMP:20260422T235012
CREATED:20231009T130803Z
LAST-MODIFIED:20231009T130803Z
UID:10000019-1697135400-1697142600@urbananow.com
SUMMARY:Half-Baked Comedy Show
DESCRIPTION:
URL:https://urbananow.com/event/half-baked-comedy-show-2/
LOCATION:Urbana Geary Lounge\, 4811 Geary Boulevard\, Inner Richmond San Francisco\, CA\, 94118\, United States
ATTACH;FMTTYPE=image/jpeg:https://urbananow.com/wp-content/uploads/2023/10/Half-Baked-Comedy-10.12.jpg
ORGANIZER;CN="Urbana Weed Dispensary":MAILTO:marketing@urbananow.com
GEO:37.780499;-122.471161
X-APPLE-STRUCTURED-LOCATION;VALUE=URI;X-ADDRESS=Urbana Geary Lounge 4811 Geary Boulevard Inner Richmond San Francisco CA 94118 United States;X-APPLE-RADIUS=500;X-TITLE=4811 Geary Boulevard:geo:-122.471161,37.780499
END:VEVENT
BEGIN:VEVENT
DTSTART;TZID=America/Los_Angeles:20231008T172000
DTEND;TZID=America/Los_Angeles:20231008T200000
DTSTAMP:20260422T235012
CREATED:20231004T205606Z
LAST-MODIFIED:20231004T205639Z
UID:10000016-1696785600-1696795200@urbananow.com
SUMMARY:49ers vs Cowboys
DESCRIPTION:Join us for the 49ers game in the Urbana Mission lounge!
URL:https://urbananow.com/event/49ers-vs-cowboys-2/
LOCATION:Urbana Mission Lounge\, 33 29th St\, San Francisco\, CA\, 94110\, United States
ATTACH;FMTTYPE=image/jpeg:https://urbananow.com/wp-content/uploads/2023/10/10.8-_-Mission-_-49ers-vs-Cowboys.jpg
ORGANIZER;CN="Urbana Weed Dispensary":MAILTO:marketing@urbananow.com
GEO:37.743801;-122.421631
X-APPLE-STRUCTURED-LOCATION;VALUE=URI;X-ADDRESS=Urbana Mission Lounge 33 29th St San Francisco CA 94110 United States;X-APPLE-RADIUS=500;X-TITLE=33 29th St:geo:-122.421631,37.743801
END:VEVENT
BEGIN:VEVENT
DTSTART;TZID=America/Los_Angeles:20231008T172000
DTEND;TZID=America/Los_Angeles:20231008T200000
DTSTAMP:20260422T235012
CREATED:20231004T205515Z
LAST-MODIFIED:20231004T205801Z
UID:10000015-1696785600-1696795200@urbananow.com
SUMMARY:49ers vs Cowboys
DESCRIPTION:Join us for the 49ers game in the Urbana Geary lounge!
URL:https://urbananow.com/event/49ers-vs-cowboys/
LOCATION:Urbana Geary Lounge\, 4811 Geary Boulevard\, Inner Richmond San Francisco\, CA\, 94118\, United States
ATTACH;FMTTYPE=image/jpeg:https://urbananow.com/wp-content/uploads/2023/10/10.8-_-Geary-_-49ers-vs-Cowboys.jpg
ORGANIZER;CN="Urbana Weed Dispensary":MAILTO:marketing@urbananow.com
GEO:37.780499;-122.471161
X-APPLE-STRUCTURED-LOCATION;VALUE=URI;X-ADDRESS=Urbana Geary Lounge 4811 Geary Boulevard Inner Richmond San Francisco CA 94118 United States;X-APPLE-RADIUS=500;X-TITLE=4811 Geary Boulevard:geo:-122.471161,37.780499
END:VEVENT
BEGIN:VEVENT
DTSTART;TZID=America/Los_Angeles:20231006T150000
DTEND;TZID=America/Los_Angeles:20231006T180000
DTSTAMP:20260422T235012
CREATED:20231004T205237Z
LAST-MODIFIED:20231004T205237Z
UID:10000014-1696604400-1696615200@urbananow.com
SUMMARY:Dim Sum and Dabs with Holy Water
DESCRIPTION:Join Holy Water in the Urbana Geary lounge for a deal on dabs and bite of dim sum!
URL:https://urbananow.com/event/dim-sum-and-dabs-with-holy-water-2/
LOCATION:Urbana Geary Lounge\, 4811 Geary Boulevard\, Inner Richmond San Francisco\, CA\, 94118\, United States
ATTACH;FMTTYPE=image/jpeg:https://urbananow.com/wp-content/uploads/2023/10/DimSum-and-Dabs-9.29-2.jpg
ORGANIZER;CN="Urbana Weed Dispensary":MAILTO:marketing@urbananow.com
GEO:37.780499;-122.471161
X-APPLE-STRUCTURED-LOCATION;VALUE=URI;X-ADDRESS=Urbana Geary Lounge 4811 Geary Boulevard Inner Richmond San Francisco CA 94118 United States;X-APPLE-RADIUS=500;X-TITLE=4811 Geary Boulevard:geo:-122.471161,37.780499
END:VEVENT
BEGIN:VEVENT
DTSTART;TZID=America/Los_Angeles:20231001T132500
DTEND;TZID=America/Los_Angeles:20231001T170000
DTSTAMP:20260422T235012
CREATED:20230928T193655Z
LAST-MODIFIED:20230928T193655Z
UID:10000013-1696166700-1696179600@urbananow.com
SUMMARY:49ers vs Cardinals
DESCRIPTION:
URL:https://urbananow.com/event/49ers-vs-cardinals/
LOCATION:Urbana Geary Lounge\, 4811 Geary Boulevard\, Inner Richmond San Francisco\, CA\, 94118\, United States
ATTACH;FMTTYPE=image/jpeg:https://urbananow.com/wp-content/uploads/2023/09/10.1-_-Geary-and-Mission-_-49ers-vs-Cardinals.jpg
ORGANIZER;CN="Urbana Weed Dispensary":MAILTO:marketing@urbananow.com
GEO:37.780499;-122.471161
X-APPLE-STRUCTURED-LOCATION;VALUE=URI;X-ADDRESS=Urbana Geary Lounge 4811 Geary Boulevard Inner Richmond San Francisco CA 94118 United States;X-APPLE-RADIUS=500;X-TITLE=4811 Geary Boulevard:geo:-122.471161,37.780499
END:VEVENT
BEGIN:VEVENT
DTSTART;TZID=America/Los_Angeles:20230930T150000
DTEND;TZID=America/Los_Angeles:20230930T180000
DTSTAMP:20260422T235012
CREATED:20230918T185618Z
LAST-MODIFIED:20230918T195427Z
UID:10000007-1696086000-1696096800@urbananow.com
SUMMARY:Intuitive Color Experience with KGB
DESCRIPTION:Join us for an unforgettable Intuitive Color Experience event with Julia Bechtold of KGB Reserve! Get ready to explore the world of color as you design your very own custom reusable tote bag.  \nLOUNGE DEAL: 30% OFF KGB
URL:https://urbananow.com/event/intuitive-color-experience-with-kgb/
LOCATION:Urbana Geary Lounge\, 4811 Geary Boulevard\, Inner Richmond San Francisco\, CA\, 94118\, United States
ATTACH;FMTTYPE=image/jpeg:https://urbananow.com/wp-content/uploads/2023/09/INTUITIVE-COLOR-EXPERIENCE-9.30.jpg
ORGANIZER;CN="Urbana Weed Dispensary":MAILTO:marketing@urbananow.com
GEO:37.780499;-122.471161
X-APPLE-STRUCTURED-LOCATION;VALUE=URI;X-ADDRESS=Urbana Geary Lounge 4811 Geary Boulevard Inner Richmond San Francisco CA 94118 United States;X-APPLE-RADIUS=500;X-TITLE=4811 Geary Boulevard:geo:-122.471161,37.780499
END:VEVENT
BEGIN:VEVENT
DTSTART;TZID=America/Los_Angeles:20230930T120000
DTEND;TZID=America/Los_Angeles:20230930T150000
DTSTAMP:20260422T235012
CREATED:20230919T143330Z
LAST-MODIFIED:20230919T143359Z
UID:10000011-1696075200-1696086000@urbananow.com
SUMMARY:Brand Market
DESCRIPTION:Meet the brands and grab a deal! Urbana Brand Markets bring together a selection of brands ready to tell you about their products and offer a great deal! \nThis week we’ll be in the lounge with Wonderbrett\, Pabst Blue Ribbon | St. Ides and High Desert Pure.
URL:https://urbananow.com/event/brand-market-2/
LOCATION:Urbana Mission Lounge\, 33 29th St\, San Francisco\, CA\, 94110\, United States
ATTACH;FMTTYPE=image/jpeg:https://urbananow.com/wp-content/uploads/2023/09/Brand-Market-9.30-Mission-EC.jpg
ORGANIZER;CN="Urbana Weed Dispensary":MAILTO:marketing@urbananow.com
GEO:37.743801;-122.421631
X-APPLE-STRUCTURED-LOCATION;VALUE=URI;X-ADDRESS=Urbana Mission Lounge 33 29th St San Francisco CA 94110 United States;X-APPLE-RADIUS=500;X-TITLE=33 29th St:geo:-122.421631,37.743801
END:VEVENT
BEGIN:VEVENT
DTSTART;TZID=America/Los_Angeles:20230929T150000
DTEND;TZID=America/Los_Angeles:20230929T180000
DTSTAMP:20260422T235012
CREATED:20230919T140113Z
LAST-MODIFIED:20230919T140113Z
UID:10000010-1695999600-1696010400@urbananow.com
SUMMARY:Dim Sum and Dabs
DESCRIPTION:Join Holy Water for a tasty Happy Hour! They’re serving Dim Sum bites and $1 Dabs from 3-6pm. While supplies last.
URL:https://urbananow.com/event/dim-sum-and-dabs/
LOCATION:Urbana Mission Lounge\, 33 29th St\, San Francisco\, CA\, 94110\, United States
ATTACH;FMTTYPE=image/jpeg:https://urbananow.com/wp-content/uploads/2023/09/DimSum-and-Dabs-9.29.jpg
ORGANIZER;CN="Urbana Weed Dispensary":MAILTO:marketing@urbananow.com
GEO:37.743801;-122.421631
X-APPLE-STRUCTURED-LOCATION;VALUE=URI;X-ADDRESS=Urbana Mission Lounge 33 29th St San Francisco CA 94110 United States;X-APPLE-RADIUS=500;X-TITLE=33 29th St:geo:-122.421631,37.743801
END:VEVENT
BEGIN:VEVENT
DTSTART;TZID=America/Los_Angeles:20230929T150000
DTEND;TZID=America/Los_Angeles:20230929T180000
DTSTAMP:20260422T235012
CREATED:20230918T185736Z
LAST-MODIFIED:20230918T195350Z
UID:10000008-1695999600-1696010400@urbananow.com
SUMMARY:Happy Hour with Wonderbrett
DESCRIPTION:Join us for Happy Hour with Wonderbrett
URL:https://urbananow.com/event/happy-hour-with-wonderbrett/
LOCATION:Urbana Geary Lounge\, 4811 Geary Boulevard\, Inner Richmond San Francisco\, CA\, 94118\, United States
ATTACH;FMTTYPE=image/jpeg:https://urbananow.com/wp-content/uploads/2023/09/Wonder-Happy-Hour-9.29.jpg
ORGANIZER;CN="Urbana Weed Dispensary":MAILTO:marketing@urbananow.com
GEO:37.780499;-122.471161
X-APPLE-STRUCTURED-LOCATION;VALUE=URI;X-ADDRESS=Urbana Geary Lounge 4811 Geary Boulevard Inner Richmond San Francisco CA 94118 United States;X-APPLE-RADIUS=500;X-TITLE=4811 Geary Boulevard:geo:-122.471161,37.780499
END:VEVENT
BEGIN:VEVENT
DTSTART;TZID=America/Los_Angeles:20230928T183000
DTEND;TZID=America/Los_Angeles:20230928T203000
DTSTAMP:20260422T235012
CREATED:20230915T212159Z
LAST-MODIFIED:20230918T195457Z
UID:10000003-1695925800-1695933000@urbananow.com
SUMMARY:Half-Baked Comedy Show
DESCRIPTION:
URL:https://urbananow.com/event/half-baked-comedy-show/
LOCATION:Urbana Geary Lounge\, 4811 Geary Boulevard\, Inner Richmond San Francisco\, CA\, 94118\, United States
ATTACH;FMTTYPE=image/jpeg:https://urbananow.com/wp-content/uploads/2023/09/Half-Baked-Comedy-9.28.jpg
ORGANIZER;CN="Urbana Weed Dispensary":MAILTO:marketing@urbananow.com
GEO:37.780499;-122.471161
X-APPLE-STRUCTURED-LOCATION;VALUE=URI;X-ADDRESS=Urbana Geary Lounge 4811 Geary Boulevard Inner Richmond San Francisco CA 94118 United States;X-APPLE-RADIUS=500;X-TITLE=4811 Geary Boulevard:geo:-122.471161,37.780499
END:VEVENT
BEGIN:VEVENT
DTSTART;TZID=America/Los_Angeles:20230923T120000
DTEND;TZID=America/Los_Angeles:20230923T150000
DTSTAMP:20260422T235012
CREATED:20230918T185334Z
LAST-MODIFIED:20230919T143447Z
UID:10000006-1695470400-1695481200@urbananow.com
SUMMARY:Brand Market
DESCRIPTION:Meet the brands and grab a deal! Urbana Brand Markets bring together a selection of brands ready to tell you about their products and offer a great deal! \nThis week we’ll be in the lounge with Bloom\, Space Gem and High Desert Pure.
URL:https://urbananow.com/event/brand-market/
LOCATION:Urbana Geary Lounge\, 4811 Geary Boulevard\, Inner Richmond San Francisco\, CA\, 94118\, United States
ATTACH;FMTTYPE=image/jpeg:https://urbananow.com/wp-content/uploads/2023/09/Brand-Market-9.23-6.jpg
ORGANIZER;CN="Urbana Weed Dispensary":MAILTO:marketing@urbananow.com
GEO:37.780499;-122.471161
X-APPLE-STRUCTURED-LOCATION;VALUE=URI;X-ADDRESS=Urbana Geary Lounge 4811 Geary Boulevard Inner Richmond San Francisco CA 94118 United States;X-APPLE-RADIUS=500;X-TITLE=4811 Geary Boulevard:geo:-122.471161,37.780499
END:VEVENT
BEGIN:VEVENT
DTSTART;TZID=America/Los_Angeles:20230922T180000
DTEND;TZID=America/Los_Angeles:20230922T203000
DTSTAMP:20260422T235012
CREATED:20230919T214032Z
LAST-MODIFIED:20230920T161512Z
UID:10000012-1695405600-1695414600@urbananow.com
SUMMARY:Latin Dance Class
DESCRIPTION:Learn the basics of Salsa\, Merengue and Cumbia with Angel!
URL:https://urbananow.com/event/latin-dance-class/
LOCATION:Urbana Geary Lounge\, 4811 Geary Boulevard\, Inner Richmond San Francisco\, CA\, 94118\, United States
ATTACH;FMTTYPE=image/jpeg:https://urbananow.com/wp-content/uploads/2023/09/Latin-Dance-Class-9.22.jpg
ORGANIZER;CN="Urbana Weed Dispensary":MAILTO:marketing@urbananow.com
GEO:37.780499;-122.471161
X-APPLE-STRUCTURED-LOCATION;VALUE=URI;X-ADDRESS=Urbana Geary Lounge 4811 Geary Boulevard Inner Richmond San Francisco CA 94118 United States;X-APPLE-RADIUS=500;X-TITLE=4811 Geary Boulevard:geo:-122.471161,37.780499
END:VEVENT
BEGIN:VEVENT
DTSTART;TZID=America/Los_Angeles:20230921T171500
DTEND;TZID=America/Los_Angeles:20230921T193000
DTSTAMP:20260422T235012
CREATED:20230918T234013Z
LAST-MODIFIED:20230918T234013Z
UID:10000009-1695316500-1695324600@urbananow.com
SUMMARY:49ers vs NY Giants
DESCRIPTION:Join us in the lounge for the 49ers vs NY Giants! \nPIZZA PROVIDED BY KGB
URL:https://urbananow.com/event/49ers-vs-ny-giants-2/
LOCATION:Urbana Mission Lounge\, 33 29th St\, San Francisco\, CA\, 94110\, United States
ATTACH;FMTTYPE=image/jpeg:https://urbananow.com/wp-content/uploads/2023/09/MISSION-49ers-vs-NY-Giants-9.21.jpg
ORGANIZER;CN="Urbana Weed Dispensary":MAILTO:marketing@urbananow.com
GEO:37.743801;-122.421631
X-APPLE-STRUCTURED-LOCATION;VALUE=URI;X-ADDRESS=Urbana Mission Lounge 33 29th St San Francisco CA 94110 United States;X-APPLE-RADIUS=500;X-TITLE=33 29th St:geo:-122.421631,37.743801
END:VEVENT
BEGIN:VEVENT
DTSTART;TZID=America/Los_Angeles:20230921T171500
DTEND;TZID=America/Los_Angeles:20230921T193000
DTSTAMP:20260422T235012
CREATED:20230918T184942Z
LAST-MODIFIED:20230918T233603Z
UID:10000005-1695316500-1695324600@urbananow.com
SUMMARY:49ers vs NY Giants
DESCRIPTION:Join us in the lounge for the 49ers vs NY Giants! \nLOUNGE DEAL: Cann Mocktails $1 | Cann 25% OFF
URL:https://urbananow.com/event/49ers-vs-ny-giants/
LOCATION:Urbana Geary Lounge\, 4811 Geary Boulevard\, Inner Richmond San Francisco\, CA\, 94118\, United States
ATTACH;FMTTYPE=image/jpeg:https://urbananow.com/wp-content/uploads/2023/09/GEARY-49ers-vs-NY-Giants-9.21.jpg
ORGANIZER;CN="Urbana Weed Dispensary":MAILTO:marketing@urbananow.com
GEO:37.780499;-122.471161
X-APPLE-STRUCTURED-LOCATION;VALUE=URI;X-ADDRESS=Urbana Geary Lounge 4811 Geary Boulevard Inner Richmond San Francisco CA 94118 United States;X-APPLE-RADIUS=500;X-TITLE=4811 Geary Boulevard:geo:-122.471161,37.780499
END:VEVENT
BEGIN:VEVENT
DTSTART;TZID=America/Los_Angeles:20230917T130500
DTEND;TZID=America/Los_Angeles:20230917T160000
DTSTAMP:20260422T235012
CREATED:20230915T214537Z
LAST-MODIFIED:20230915T214537Z
UID:10000004-1694955900-1694966400@urbananow.com
SUMMARY:49ers vs Rams
DESCRIPTION:
URL:https://urbananow.com/event/49ers-vs-rams/
LOCATION:Urbana Geary Lounge\, 4811 Geary Boulevard\, Inner Richmond San Francisco\, CA\, 94118\, United States
ORGANIZER;CN="Urbana Weed Dispensary":MAILTO:marketing@urbananow.com
GEO:37.780499;-122.471161
X-APPLE-STRUCTURED-LOCATION;VALUE=URI;X-ADDRESS=Urbana Geary Lounge 4811 Geary Boulevard Inner Richmond San Francisco CA 94118 United States;X-APPLE-RADIUS=500;X-TITLE=4811 Geary Boulevard:geo:-122.471161,37.780499
END:VEVENT
BEGIN:VEVENT
DTSTART;TZID=America/Los_Angeles:20230916T150000
DTEND;TZID=America/Los_Angeles:20230916T180000
DTSTAMP:20260422T235012
CREATED:20230915T213200Z
LAST-MODIFIED:20230915T213200Z
UID:10000001-1694876400-1694887200@urbananow.com
SUMMARY:Dim Sum and Dabs with Holy Water
DESCRIPTION:
URL:https://urbananow.com/event/dim-sum-and-dabs-with-holy-water/
LOCATION:Urbana Geary Lounge\, 4811 Geary Boulevard\, Inner Richmond San Francisco\, CA\, 94118\, United States
ORGANIZER;CN="Urbana Weed Dispensary":MAILTO:marketing@urbananow.com
GEO:37.780499;-122.471161
X-APPLE-STRUCTURED-LOCATION;VALUE=URI;X-ADDRESS=Urbana Geary Lounge 4811 Geary Boulevard Inner Richmond San Francisco CA 94118 United States;X-APPLE-RADIUS=500;X-TITLE=4811 Geary Boulevard:geo:-122.471161,37.780499
END:VEVENT
BEGIN:VEVENT
DTSTART;TZID=America/Los_Angeles:20230915T150000
DTEND;TZID=America/Los_Angeles:20230915T180000
DTSTAMP:20260422T235012
CREATED:20230915T210803Z
LAST-MODIFIED:20230915T215616Z
UID:10000002-1694790000-1694800800@urbananow.com
SUMMARY:Happy Hour with Pure Beauty
DESCRIPTION:Join Pure Beauty for Happy Hour in the Geary lounge! \nGrab a deal with 20% OFF FLOWER and Buy one get one $1 Pure Beauty pre-rolls.
URL:https://urbananow.com/event/happy-hour-with-pure-beauty/
LOCATION:Urbana Geary Lounge\, 4811 Geary Boulevard\, Inner Richmond San Francisco\, CA\, 94118\, United States
ORGANIZER;CN="Urbana Weed Dispensary":MAILTO:marketing@urbananow.com
GEO:37.780499;-122.471161
X-APPLE-STRUCTURED-LOCATION;VALUE=URI;X-ADDRESS=Urbana Geary Lounge 4811 Geary Boulevard Inner Richmond San Francisco CA 94118 United States;X-APPLE-RADIUS=500;X-TITLE=4811 Geary Boulevard:geo:-122.471161,37.780499
END:VEVENT
BEGIN:VEVENT
DTSTART;TZID=America/Los_Angeles:20260422T235012
DTEND;TZID=America/Los_Angeles:20231019T180000
DTSTAMP:20260422T235012
CREATED:20231017T125040Z
LAST-MODIFIED:20231017T125040Z
UID:10000026-0-1697738400@urbananow.com
SUMMARY:Pizza and Pre-Rolls
DESCRIPTION:
URL:https://urbananow.com/event/pizza-and-pre-rolls/
LOCATION:Urbana Geary Lounge\, 4811 Geary Boulevard\, Inner Richmond San Francisco\, CA\, 94118\, United States
ATTACH;FMTTYPE=image/jpeg:https://urbananow.com/wp-content/uploads/2023/10/Copy-of-Event-Calendar-October-2.jpg
ORGANIZER;CN="Urbana Weed Dispensary":MAILTO:marketing@urbananow.com
GEO:37.780499;-122.471161
X-APPLE-STRUCTURED-LOCATION;VALUE=URI;X-ADDRESS=Urbana Geary Lounge 4811 Geary Boulevard Inner Richmond San Francisco CA 94118 United States;X-APPLE-RADIUS=500;X-TITLE=4811 Geary Boulevard:geo:-122.471161,37.780499
END:VEVENT
END:VCALENDAR