BEGIN:VCALENDAR
VERSION:2.0
PRODID:-//San Francisco, CA &amp; Oakland, CA | Urbana Weed Dispensary &amp; Lounge, - ECPv6.13.2.1//NONSGML v1.0//EN
CALSCALE:GREGORIAN
METHOD:PUBLISH
X-WR-CALNAME:San Francisco, CA &amp; Oakland, CA | Urbana Weed Dispensary &amp; Lounge,
X-ORIGINAL-URL:https://urbananow.com
X-WR-CALDESC:Events for San Francisco, CA &amp; Oakland, CA | Urbana Weed Dispensary &amp; Lounge,
REFRESH-INTERVAL;VALUE=DURATION:PT1H
X-Robots-Tag:noindex
X-PUBLISHED-TTL:PT1H
BEGIN:VTIMEZONE
TZID:America/Los_Angeles
BEGIN:DAYLIGHT
TZOFFSETFROM:-0800
TZOFFSETTO:-0700
TZNAME:PDT
DTSTART:20250309T100000
END:DAYLIGHT
BEGIN:STANDARD
TZOFFSETFROM:-0700
TZOFFSETTO:-0800
TZNAME:PST
DTSTART:20251102T090000
END:STANDARD
BEGIN:DAYLIGHT
TZOFFSETFROM:-0800
TZOFFSETTO:-0700
TZNAME:PDT
DTSTART:20260308T100000
END:DAYLIGHT
BEGIN:STANDARD
TZOFFSETFROM:-0700
TZOFFSETTO:-0800
TZNAME:PST
DTSTART:20261101T090000
END:STANDARD
END:VTIMEZONE
BEGIN:VEVENT
DTSTART;TZID=America/Los_Angeles:20260112T170000
DTEND;TZID=America/Los_Angeles:20260112T200000
DTSTAMP:20260421T082946
CREATED:20260102T151454Z
LAST-MODIFIED:20260102T151454Z
UID:10000415-1768237200-1768248000@urbananow.com
SUMMARY:MONDAY NIGHT FLOWERS
DESCRIPTION:Urbana Oakland — Large Lounge \nDate & TimeMonday\, January 12\, 2026• Game Time: 5:15 PM \nEvent DescriptionWrap up the playoff weekend with Monday Night Football at Urbana Oakland. Enjoy the game in the Large Lounge with special features from Traditional and sponsored food during the event. \nSponsored ByTraditional
URL:https://urbananow.com/event/monday-night-flowers-4/
LOCATION:Urbana Oakland\, 415 W Grand Ave\, Oakland\, CA\, 94612\, United States
CATEGORIES:Oakland Events
ORGANIZER;CN="Urbana Weed Dispensary":MAILTO:marketing@urbananow.com
END:VEVENT
BEGIN:VEVENT
DTSTART;TZID=America/Los_Angeles:20260110T110000
DTEND;TZID=America/Los_Angeles:20260110T140000
DTSTAMP:20260421T082946
CREATED:20260102T150727Z
LAST-MODIFIED:20260102T150744Z
UID:10000412-1768042800-1768053600@urbananow.com
SUMMARY:Alchaemy Ascension Yoga
DESCRIPTION:Alchemy of Ascension \nHosted ByTalia Monet \nLocationUrbana Oakland \nDate & TimeSaturday\, January 1011:00 AM – 2:00 PM EST \nOverviewAlchemy of Ascension is an ecowomanist yoga and creative writing workshop centered on embodied presence\, creativity\, and ancestral connection. This session invites participants to explore how we consciously become future ancestors through the creative archives we leave behind. \nThe gathering blends yoga and creative writing with an Ayurvedic-inspired ritual featuring infused herbal elixirs. Participants will engage the senses\, explore the healing context of plant medicine\, and connect through guided movement\, reflection\, and writing. \nWhat’s Included• Ecowomanist yoga practice• Guided creative writing exercises• Ayurvedic-inspired ritual• Herbal rolling station• Handcrafted warming herbal elixirs• Light snacks \nRSVP: https://www.eventbrite.com/e/alchemy-of-ascension-tickets-1977862546118?utm-campaign=social&utm-content=attendeeshare&utm-medium=discovery&utm-term=listing&utm-source=cp&aff=ebdsshcopyurl
URL:https://urbananow.com/event/alchaemy-ascension-yoga/
LOCATION:Urbana Oakland\, 415 W Grand Ave\, Oakland\, CA\, 94612\, United States
CATEGORIES:Oakland Events
ORGANIZER;CN="Urbana Weed Dispensary":MAILTO:marketing@urbananow.com
END:VEVENT
BEGIN:VEVENT
DTSTART;TZID=America/Los_Angeles:20260103T170000
DTEND;TZID=America/Los_Angeles:20260103T200000
DTSTAMP:20260421T082946
CREATED:20260102T150408Z
LAST-MODIFIED:20260102T150430Z
UID:10000411-1767459600-1767470400@urbananow.com
SUMMARY:49ers vs Seahawks Game
DESCRIPTION:49ers vs Seahawks Game Day Lounge \nLocationUrbana Lounges \nDate & TimeSaturday\, January 3\, 2026Game Time (doors open early) \nGame day is on at Urbana. Catch the 49ers vs Seahawks showdown in the lounge with a high-energy watch party atmosphere\, featured products\, and game-day vibes. Rep your team\, settle in\, and enjoy the matchup with fellow fans. \nFood & Beverage• Game-day mocktails available
URL:https://urbananow.com/event/49ers-vs-seahawks-game/
LOCATION:Urbana Oakland\, 415 W Grand Ave\, Oakland\, CA\, 94612\, United States
CATEGORIES:Oakland Events,San Francisco Events
ORGANIZER;CN="Urbana Weed Dispensary":MAILTO:marketing@urbananow.com
END:VEVENT
BEGIN:VEVENT
DTSTART;TZID=America/Los_Angeles:20251229T170000
DTEND;TZID=America/Los_Angeles:20251229T200000
DTSTAMP:20260421T082946
CREATED:20251222T025149Z
LAST-MODIFIED:20251222T025307Z
UID:10000407-1767027600-1767038400@urbananow.com
SUMMARY:MONDAY NIGHT FLOWERS
DESCRIPTION:Monday 12/29 5-8pm \nRams vs. Falcons\nGOOD FLOWER & GOOD FOOTBALL \n25% OFF Claybourne Co. Products \nCATCH THE GAME IN THE LOUNGE!
URL:https://urbananow.com/event/monday-night-flowers-3/
LOCATION:Urbana Oakland\, 415 W Grand Ave\, Oakland\, CA\, 94612\, United States
CATEGORIES:Oakland Events
ORGANIZER;CN="Urbana Weed Dispensary":MAILTO:marketing@urbananow.com
END:VEVENT
BEGIN:VEVENT
DTSTART;TZID=America/Los_Angeles:20251222T170000
DTEND;TZID=America/Los_Angeles:20251222T200000
DTSTAMP:20260421T082946
CREATED:20251215T045829Z
LAST-MODIFIED:20251215T045829Z
UID:10000406-1766422800-1766433600@urbananow.com
SUMMARY:MONDAY NIGHT FLOWERS
DESCRIPTION:Monday 12/22 5-8pm \n49ers vs. Colts\nGOOD FLOWER & GOOD FOOTBALL \n25% OFF Claybourne Co. Products \nCATCH THE GAME IN THE LOUNGE!
URL:https://urbananow.com/event/monday-night-flowers-2/
LOCATION:Urbana Oakland\, 415 W Grand Ave\, Oakland\, CA\, 94612\, United States
CATEGORIES:Oakland Events
ORGANIZER;CN="Urbana Weed Dispensary":MAILTO:marketing@urbananow.com
END:VEVENT
BEGIN:VEVENT
DTSTART;TZID=America/Los_Angeles:20251219T170000
DTEND;TZID=America/Los_Angeles:20251219T210000
DTSTAMP:20260421T082946
CREATED:20251126T034310Z
LAST-MODIFIED:20251215T045302Z
UID:10000400-1766163600-1766178000@urbananow.com
SUMMARY:Holiday Party Smokin' with Santa
DESCRIPTION:Friday\, December 19th🕐 5–8 PM \nSip\, Celebrate\, and Smoke with Santa!\nJoin Sense and Kiva at Urbana Oakland for a special holiday hangout and dab-bar experience. \nFeaturing:\n🍹 Holiday-themed infused mocktails🌿 Community vibes and seasonal cheer🎉 The perfect kickoff to your holiday weekend \nPlus:\n🍫 Kiva Hot Chocolate🎁 Gift Wrapping👚 Ugly Sweater Contest \nSee you there—festivities encouraged\, ugly sweaters required (well… strongly suggested). 🎅✨
URL:https://urbananow.com/event/holiday-party-smokin-with-santa/
LOCATION:Urbana Oakland\, 415 W Grand Ave\, Oakland\, CA\, 94612\, United States
CATEGORIES:Oakland Events
ORGANIZER;CN="Urbana Weed Dispensary":MAILTO:marketing@urbananow.com
END:VEVENT
BEGIN:VEVENT
DTSTART;TZID=America/Los_Angeles:20251218T180000
DTEND;TZID=America/Los_Angeles:20251218T200000
DTSTAMP:20260421T082946
CREATED:20251215T045431Z
LAST-MODIFIED:20251215T045431Z
UID:10000404-1766080800-1766088000@urbananow.com
SUMMARY:Stoner Bingo
DESCRIPTION:Thursday\, December 18th | 6–8 PM\nHosted by Josh\n \nIt’s Bingo night—for cannabis lovers and the curious! \nJoin us for a chill evening of laughs\, prizes\, and good vibes. \n\nSMALL BITES\nMOCKTAILS\nSponsor: Bloom — BOGO for $1 Bloom specials all products
URL:https://urbananow.com/event/stoner-bingo-2/
LOCATION:Urbana Oakland\, 415 W Grand Ave\, Oakland\, CA\, 94612\, United States
CATEGORIES:Oakland Events
ORGANIZER;CN="Urbana Weed Dispensary":MAILTO:marketing@urbananow.com
END:VEVENT
BEGIN:VEVENT
DTSTART;TZID=America/Los_Angeles:20251217T183000
DTEND;TZID=America/Los_Angeles:20251217T200000
DTSTAMP:20260421T082946
CREATED:20251208T031603Z
LAST-MODIFIED:20251208T031603Z
UID:10000402-1765996200-1766001600@urbananow.com
SUMMARY:Small Business Networking Night
DESCRIPTION:Small Business Networking Night.  \nIf you have a business or a service that you provide the community\, come on down! \n🎉 You’re Invited! 🎉 \nPresented by Urbana Cannabis Lounges  \n415 W. Grand Ave.\, Oakland\, CA \n🗓 WEDNESDAY DECEMBER 17th \n6:30-8pm \nJoin us for an evening of elevated networking with Oakland’s most inspiring small business owners\, entrepreneurs\, and visionaries. Connect\, vibe\, and build meaningful relationships in a unique and relaxed lounge setting. \n✨ Good people\, great conversations\, and elevated vibes. \nRSVP now https://eventhi.io/events/networking-night-13328
URL:https://urbananow.com/event/small-business-networking-night/
LOCATION:Urbana Oakland\, 415 W Grand Ave\, Oakland\, CA\, 94612\, United States
CATEGORIES:Oakland Events
ORGANIZER;CN="Urbana Weed Dispensary":MAILTO:marketing@urbananow.com
END:VEVENT
BEGIN:VEVENT
DTSTART;TZID=America/Los_Angeles:20251215T170000
DTEND;TZID=America/Los_Angeles:20251215T200000
DTSTAMP:20260421T082946
CREATED:20251215T045710Z
LAST-MODIFIED:20251215T045710Z
UID:10000405-1765818000-1765828800@urbananow.com
SUMMARY:MONDAY NIGHT FLOWERS
DESCRIPTION:Monday 12/15 5-8pm \nMiami vs. Pittsburgh\nGOOD FLOWER & GOOD FOOTBALL \n25% OFF Claybourne Co. Products \nCATCH THE GAME IN THE LOUNGE!
URL:https://urbananow.com/event/monday-night-flowers/
LOCATION:Urbana Oakland\, 415 W Grand Ave\, Oakland\, CA\, 94612\, United States
CATEGORIES:Oakland Events
ORGANIZER;CN="Urbana Weed Dispensary":MAILTO:marketing@urbananow.com
END:VEVENT
BEGIN:VEVENT
DTSTART;TZID=America/Los_Angeles:20251211T180000
DTEND;TZID=America/Los_Angeles:20251211T200000
DTSTAMP:20260421T082946
CREATED:20251126T034025Z
LAST-MODIFIED:20251126T034025Z
UID:10000399-1765476000-1765483200@urbananow.com
SUMMARY:Craft Cannabis Cocktail Class & Flower Tasting Night
DESCRIPTION:Thursday\, December 11th \n🕕 6–8 PM \nAn elevated evening of cannabis\, cocktails\, and community. 🌿✨ \nHosted by: The Herb Somm\, Jamie Evans & Greenline \n🍹 Enjoy 1–2 signature infused mocktails🌸 Explore curated flower tastings🎶 Connect\, sip\, and celebrate in good company \nRSVP Coming Soon!
URL:https://urbananow.com/event/craft-cannabis-cocktail-class-flower-tasting-night-2/
LOCATION:Urbana Oakland\, 415 W Grand Ave\, Oakland\, CA\, 94612\, United States
CATEGORIES:Oakland Events
ORGANIZER;CN="Urbana Weed Dispensary":MAILTO:marketing@urbananow.com
END:VEVENT
BEGIN:VEVENT
DTSTART;TZID=America/Los_Angeles:20251207T120000
DTEND;TZID=America/Los_Angeles:20251207T150000
DTSTAMP:20260421T082946
CREATED:20251103T125828Z
LAST-MODIFIED:20251126T033451Z
UID:10000382-1765108800-1765119600@urbananow.com
SUMMARY:Wake & Shake: A Cannabis Coffee Party & Wellness Groove
DESCRIPTION:Sunday\, December 7th\, 2025\n12 PM – 3 PM\nSip\, spark\, and savor the afternoon glow. \nStart your Sunday with a celebration of movement\, music\, and mindful indulgence. Wake & Shake blends wellness\, cannabis culture\, and community vibes—designed to stretch your body\, lift your spirit\, and awaken your senses. \nWhether you’re here for the flow or the flavor\, you’ll find your rhythm among fellow early risers who like their mornings elevated. \nEvent Highlights: \n\nIngrid from Venus en Scorpio Coffee serving up your favorite coffee drinks.\nDJ Zack spinning feel-good tunes\nFresh-brewed coffee + non-infused drink options\nOakland Extracts Dab Bar\nGourmet donuts\nCannabis-infused mocktails\n\nLounge Deals: \n\n30% off Manzanita Naturals & Bloom\n$5 Pacific Reserve Pre-Rolls\n$5 1g Shatter – Paper Planes\n\nBrought to you by:\nBloom | Oakland Extracts \nFree your body. Wake your senses. Shake up your Sunday.\nThis is your permission slip to play\, pause\, and puff in community. Let’s rise together.
URL:https://urbananow.com/event/wake-shake-a-cannabis-coffee-party-wellness-groove-3/
LOCATION:Urbana Oakland\, 415 W Grand Ave\, Oakland\, CA\, 94612\, United States
CATEGORIES:Oakland Events
ORGANIZER;CN="Urbana Weed Dispensary":MAILTO:marketing@urbananow.com
END:VEVENT
BEGIN:VEVENT
DTSTART;TZID=America/Los_Angeles:20251205T170000
DTEND;TZID=America/Los_Angeles:20251205T210000
DTSTAMP:20260421T082946
CREATED:20251126T033746Z
LAST-MODIFIED:20251126T033746Z
UID:10000398-1764954000-1764968400@urbananow.com
SUMMARY:First Friday!
DESCRIPTION:5–9pm \nSave the Date!
URL:https://urbananow.com/event/first-friday/
LOCATION:Urbana Oakland\, 415 W Grand Ave\, Oakland\, CA\, 94612\, United States
CATEGORIES:Oakland Events
ORGANIZER;CN="Urbana Weed Dispensary":MAILTO:marketing@urbananow.com
END:VEVENT
BEGIN:VEVENT
DTSTART;TZID=America/Los_Angeles:20251125T180000
DTEND;TZID=America/Los_Angeles:20251125T210000
DTSTAMP:20260421T082946
CREATED:20251111T051134Z
LAST-MODIFIED:20251111T051134Z
UID:10000391-1764093600-1764104400@urbananow.com
SUMMARY:Green Party
DESCRIPTION:Tuesday\, November 25th | 6–9 PM \nGet ready to sing\, dab\, and vibe in green! Join us for Karaoke hosted by Homeplace Collective and Claybourne Co. \n🎤 KARAOKE \n🔥 DAB BAR \n🍴 SMALL BITES \n🍹 MOCKTAILS \n💚 Guests who wear green unlock a special promo.  \nMore details and exclusive deals to come! \n\nRSVP NOW! \nhttps://eventhi.io/events/green-party–dabioke-night-13114
URL:https://urbananow.com/event/green-party/
LOCATION:Urbana Oakland\, 415 W Grand Ave\, Oakland\, CA\, 94612\, United States
CATEGORIES:Oakland Events
ORGANIZER;CN="Urbana Weed Dispensary":MAILTO:marketing@urbananow.com
END:VEVENT
BEGIN:VEVENT
DTSTART;TZID=America/Los_Angeles:20251124T170000
DTEND;TZID=America/Los_Angeles:20251124T200000
DTSTAMP:20260421T082946
CREATED:20251114T045811Z
LAST-MODIFIED:20251114T045811Z
UID:10000397-1764003600-1764014400@urbananow.com
SUMMARY:MONDAY NIGHT FLOWERS - Game Watch Party
DESCRIPTION:Monday 11/24 5-8pm \n49ers vs Panthers\nFLOWER | FOOD | FOOTBALL \n30% off Flower\n40% off PODS\nHosted by Stiiizy \nCATCH THE GAME IN THE LOUNGE!
URL:https://urbananow.com/event/monday-night-flowers-game-watch-party/
LOCATION:Urbana Oakland\, 415 W Grand Ave\, Oakland\, CA\, 94612\, United States
CATEGORIES:Oakland Events
ORGANIZER;CN="Urbana Weed Dispensary":MAILTO:marketing@urbananow.com
END:VEVENT
BEGIN:VEVENT
DTSTART;TZID=America/Los_Angeles:20251121T180000
DTEND;TZID=America/Los_Angeles:20251121T210000
DTSTAMP:20260421T082946
CREATED:20251105T054433Z
LAST-MODIFIED:20251105T054433Z
UID:10000387-1763748000-1763758800@urbananow.com
SUMMARY:Happy Hour with Jetty
DESCRIPTION:Friday\, November 21\, 2025🕕 6–9 PM \nJoin us in the lounge for an exclusive Jetty Happy Hour — premium solventless deals and chill Friday vibes. One per person\, while supplies last. \nHappy Hour Lounge Deals: \n\nLive Rosin Extracts — $55 → $30\nSolventless 1g Pre-rolls — $18 → $10\n\nShop and sesh with Jetty.
URL:https://urbananow.com/event/happy-hour-with-jetty/
LOCATION:Urbana Oakland\, 415 W Grand Ave\, Oakland\, CA\, 94612\, United States
CATEGORIES:Oakland Events
ORGANIZER;CN="Urbana Weed Dispensary":MAILTO:marketing@urbananow.com
END:VEVENT
BEGIN:VEVENT
DTSTART;TZID=America/Los_Angeles:20251120T180000
DTEND;TZID=America/Los_Angeles:20251120T200000
DTSTAMP:20260421T082946
CREATED:20251111T050924Z
LAST-MODIFIED:20251111T051002Z
UID:10000390-1763661600-1763668800@urbananow.com
SUMMARY:Stoner Bingo
DESCRIPTION:Thursday\, November 20th | 6–8 PM\nHosted by Josh\n \nIt’s Bingo night—for cannabis lovers and the curious! \nJoin us for a chill evening of laughs\, prizes\, and good vibes. \n\nSMALL BITES\nMOCKTAILS\nSponsor: Bloom — BOGO for $1 Bloom specials all products!\n\nRSVP NOW! \nhttps://eventhi.io/events/stoner-bingo-13116
URL:https://urbananow.com/event/stoner-bingo/
LOCATION:Urbana Oakland\, 415 W Grand Ave\, Oakland\, CA\, 94612\, United States
CATEGORIES:Oakland Events
ORGANIZER;CN="Urbana Weed Dispensary":MAILTO:marketing@urbananow.com
END:VEVENT
BEGIN:VEVENT
DTSTART;TZID=America/Los_Angeles:20251119T183000
DTEND;TZID=America/Los_Angeles:20251119T200000
DTSTAMP:20260421T082946
CREATED:20260102T155152Z
LAST-MODIFIED:20260102T155152Z
UID:10000420-1763577000-1763582400@urbananow.com
SUMMARY:Networking Night
DESCRIPTION:Urbana Oakland — Small Lounge \nDate & Time6:30–8:00 PM \nEvent DescriptionA networking night for Oakland’s small business and cannabis community. Connect with artists\, local business owners\, and creatives to collaborate on events\, fundraisers\, and future lounge activations.
URL:https://urbananow.com/event/networking-night-2/
LOCATION:Urbana Oakland\, 415 W Grand Ave\, Oakland\, CA\, 94612\, United States
CATEGORIES:Oakland Events
ORGANIZER;CN="Urbana Weed Dispensary":MAILTO:marketing@urbananow.com
END:VEVENT
BEGIN:VEVENT
DTSTART;TZID=America/Los_Angeles:20251119T180000
DTEND;TZID=America/Los_Angeles:20251119T200000
DTSTAMP:20260421T082946
CREATED:20251111T050549Z
LAST-MODIFIED:20251111T050550Z
UID:10000389-1763575200-1763582400@urbananow.com
SUMMARY:Networking Night
DESCRIPTION:Calling all Artists\, Performers & Event Organizers! \n🎉 You’re Invited! 🎉 \nPresented by Urbana Cannabis Lounges  \n415 W. Grand Ave.\, Oakland\, CA \n🗓 WEDNESDAY NOVEMBER 19th \n6–8pm \nTastemakers of the Town! \nJoin us for an evening of elevated networking with Oakland’s most inspiring creators\, entrepreneurs\, and visionaries. Connect\, vibe\, and build meaningful relationships in a unique and relaxed lounge setting. \n✨ Good people\, great conversations\, and elevated vibes. \nRSVP now \n\nhttps://eventhi.io/events/networking-night-13117
URL:https://urbananow.com/event/networking-night/
LOCATION:Urbana Oakland\, 415 W Grand Ave\, Oakland\, CA\, 94612\, United States
CATEGORIES:Oakland Events
ORGANIZER;CN="Urbana Weed Dispensary":MAILTO:marketing@urbananow.com
END:VEVENT
BEGIN:VEVENT
DTSTART;TZID=America/Los_Angeles:20251114T180000
DTEND;TZID=America/Los_Angeles:20251114T210000
DTSTAMP:20260421T082946
CREATED:20251105T053932Z
LAST-MODIFIED:20251105T053959Z
UID:10000385-1763143200-1763154000@urbananow.com
SUMMARY:Happy Hour with Claybourne Co.
DESCRIPTION:6–9 PM \nJoin us for a special Claybourne Co. Happy Hour — exclusive lounge deals\, good vibes\, and premium drops at half the price. One per customer\, while supplies last. \nHappy Hour Deals: \n\nDiamond 2pk Pre-rolls — $20 → $10\n1g Jar Flower — $15 → $5\n1g AIO Vape — $36 → $20\n\nCome through\, chill out\, and stock up on your favorites.
URL:https://urbananow.com/event/happy-hour-with-claybourne-co/
LOCATION:Urbana Oakland\, 415 W Grand Ave\, Oakland\, CA\, 94612\, United States
CATEGORIES:Oakland Events
ORGANIZER;CN="Urbana Weed Dispensary":MAILTO:marketing@urbananow.com
END:VEVENT
BEGIN:VEVENT
DTSTART;TZID=America/Los_Angeles:20251107T180000
DTEND;TZID=America/Los_Angeles:20251107T210000
DTSTAMP:20260421T082946
CREATED:20251103T125039Z
LAST-MODIFIED:20251103T131717Z
UID:10000381-1762538400-1762549200@urbananow.com
SUMMARY:First Friday Happy Hour
DESCRIPTION:Friday\, November 7\, 2025🕕 6–9 PM\nOakland Lounge \nJoin us for First Friday with PAX — an evening of exclusive deals\, good vibes\, and custom engraving! \nLounge Specials: \n\nPAX Products – 40% Off\nFleetwood 1g Pre-Rolls – $3 (Reg. $6)\n\nEnjoy small bites and refreshments.Plus\, get your PAX engraved on-site by our special guest engraver. \nDon’t miss this one-night-only happy hour celebration!
URL:https://urbananow.com/event/first-friday-happy-hour/
LOCATION:Urbana Oakland\, 415 W Grand Ave\, Oakland\, CA\, 94612\, United States
CATEGORIES:Oakland Events
ORGANIZER;CN="Urbana Weed Dispensary":MAILTO:marketing@urbananow.com
END:VEVENT
BEGIN:VEVENT
DTSTART;TZID=America/Los_Angeles:20251010T160000
DTEND;TZID=America/Los_Angeles:20251010T180000
DTSTAMP:20260421T082946
CREATED:20251001T200456Z
LAST-MODIFIED:20251001T200512Z
UID:10000379-1760112000-1760119200@urbananow.com
SUMMARY:🌬️ PAX Happy Hour
DESCRIPTION:Friday\, October 10\, 2025 | 4–6 PM \nJoin us at Urbana Oakland for a chill PAX Happy Hour featuring: \n🍧 Free Snow Cones – Courtesy of the PAX Snow Cone Machine🔊 Live PAX Engraving Station – Customize your device🌿 30% Off All PAX Products🔥 Featuring the limited-time PAX Snowcone Pod \nSwing by\, cool down\, and stock up — only at Urbana Oakland!
URL:https://urbananow.com/event/%f0%9f%8c%ac%ef%b8%8f-pax-happy-hour-urbana-oakland/
LOCATION:Urbana Oakland\, 415 W Grand Ave\, Oakland\, CA\, 94612\, United States
CATEGORIES:Oakland Events
ORGANIZER;CN="Urbana Weed Dispensary":MAILTO:marketing@urbananow.com
END:VEVENT
BEGIN:VEVENT
DTSTART;TZID=America/Los_Angeles:20251009T170000
DTEND;TZID=America/Los_Angeles:20251009T200000
DTSTAMP:20260421T082946
CREATED:20250928T160858Z
LAST-MODIFIED:20250928T160858Z
UID:10000375-1760029200-1760040000@urbananow.com
SUMMARY:WAVY BY OAKHELLA
DESCRIPTION:Thursday October 9th – 5-8pm \nLive DJ set by local Oakland native Trey! 🎶 Tickets are $5\, or you get free entry with any purchase. \nTrey is well-known in the Oakland community for curating inclusive\, welcoming experiences — and we’re excited to bring that energy to Urbana.
URL:https://urbananow.com/event/wavy-by-oakhella/
LOCATION:Urbana Oakland\, 415 W Grand Ave\, Oakland\, CA\, 94612\, United States
CATEGORIES:Oakland Events
ORGANIZER;CN="Urbana Weed Dispensary":MAILTO:marketing@urbananow.com
END:VEVENT
BEGIN:VEVENT
DTSTART;TZID=America/Los_Angeles:20251005T173000
DTEND;TZID=America/Los_Angeles:20251005T210000
DTSTAMP:20260421T082946
CREATED:20250928T154841Z
LAST-MODIFIED:20251001T195803Z
UID:10000365-1759685400-1759698000@urbananow.com
SUMMARY:Warriors Game
DESCRIPTION:SUNDAY 10/5 5:30pm | WARRIORS VS. LAKERS\nHosted by Cann \nBEVIES | SMALL BITES | PRE-SEASON HOOPS \n30% OFF Cann during the game \nEvent Deals: \n$8 1 Gram Shatter – Paper Planes Extracts\n$5 Pre-Rolls – Pacific Reserve \n 
URL:https://urbananow.com/event/warriors-watch-party-2/
LOCATION:Urbana Oakland\, 415 W Grand Ave\, Oakland\, CA\, 94612\, United States
CATEGORIES:Oakland Events
ORGANIZER;CN="Urbana Weed Dispensary":MAILTO:marketing@urbananow.com
END:VEVENT
BEGIN:VEVENT
DTSTART;TZID=America/Los_Angeles:20251005T120000
DTEND;TZID=America/Los_Angeles:20251005T150000
DTSTAMP:20260421T082946
CREATED:20250928T154105Z
LAST-MODIFIED:20250928T154507Z
UID:10000363-1759665600-1759676400@urbananow.com
SUMMARY:Wake & Shake
DESCRIPTION:SUNDAY\, OCTOBER 5th 12pm–3pm \nRSVP HERE https://eventhi.io/events/wake-and-shake-a-cannabis-coffee-party-wellness-groove-12818 \n\nSip\, spark\, and savor the afternoon glow ✨☕🌿 \nStart your Sunday with a sunrise celebration of movement\, music\, and mindful indulgence. Wake & Shake is your dose of wellness\, cannabis culture\, and curated community vibes—designed to stretch your body\, lift your spirit\, and awaken your senses. \nWhether you’re here for the flow or the flavor\, you’ll find your rhythm among fellow early risers who love their mornings elevated. \nRSVP FOR FREE \n🎶Event Highlights: \n✨ DJ Zack spinning feel-good tunes \n☕ Fresh-brewed coffee + non-infused drink options \n🌱 Manzanita Naturals Mocktail Bar \n🍩 Gourmet donuts \n🌱 Cannabis Infused Mocktail \n💸 30% off Manzanita Naturals & Bloom | $% Pacific Reserve Pre-Rolls | $5 1g Shatter Paper Planes \nBrought To You By: Manzanita Naturals | Bloom | Pacific Reserve  \n🌼 Free your body. Wake your senses. Shake up your Sunday. \nThis is your permission slip to play\, pause\, and puff in community. Let’s rise together. \n\n  \n 
URL:https://urbananow.com/event/wake-shake/
LOCATION:Urbana Oakland\, 415 W Grand Ave\, Oakland\, CA\, 94612\, United States
CATEGORIES:Oakland Events
ORGANIZER;CN="Urbana Weed Dispensary":MAILTO:marketing@urbananow.com
END:VEVENT
BEGIN:VEVENT
DTSTART;TZID=America/Los_Angeles:20251003T173000
DTEND;TZID=America/Los_Angeles:20251003T203000
DTSTAMP:20260421T082946
CREATED:20250928T154424Z
LAST-MODIFIED:20250928T154424Z
UID:10000364-1759512600-1759523400@urbananow.com
SUMMARY:Dabioake
DESCRIPTION:FRIDAY 10/3 5:30–8:30 pm\nHosted by Homeplace Collective \nEnjoy a $2 Pre-roll if you sing! One per person\, while supplies last. \nSing off key? Don’t worry we’re all a little high.
URL:https://urbananow.com/event/dabioake/
LOCATION:Urbana Oakland\, 415 W Grand Ave\, Oakland\, CA\, 94612\, United States
CATEGORIES:Oakland Events
ORGANIZER;CN="Urbana Weed Dispensary":MAILTO:marketing@urbananow.com
END:VEVENT
BEGIN:VEVENT
DTSTART;TZID=America/Los_Angeles:20250927T150000
DTEND;TZID=America/Los_Angeles:20250927T200000
DTSTAMP:20260421T082946
CREATED:20250922T151939Z
LAST-MODIFIED:20250922T151939Z
UID:10000362-1758985200-1759003200@urbananow.com
SUMMARY:CannaKick-it Day Party
DESCRIPTION:We’re back for another year of Cannakick-it – Oakland’s premier 420-friendly day party – and this year we’re taking it to the next level! \nFor our 3rd year\, we’ve partnered with Urbana Oakland Dispensary (THE OLD LUKAS LOUNGE) to host the ultimate experience inside their newly remodeled consumption lounge\, where on-site enjoyment is encouraged and celebrated. Urbana is fully stocked with all your favorite products and equipped with a beverage bar serving the best infused sips in the Bay. \nWhat to Expect: \n• Celebrity DJ of the Golden State Warriors DJ D-Sharp \n• Live performance by Bay Area’s own ST Spittin \n• Live performance by Bay Area’s own Trini \n• Special Strain Release by Omni – included with ticket purchase (excluding donation-based tickets) \n• Food\, dominoes\, and spades to keep the energy flowing \n• A curated community of cannabis lovers\, movers\, and shakers \nThis isn’t just a party — it’s a celebration of community and culture. Come vibe\, connect\, and build with those who live and love the plant life.  \nAnd here’s the best part: your ticket does more than secure your spot at the hottest party in Oakland – it also supports Ladies Loving and Living\, our nonprofit partner dedicated to empowering women post-incarceration with therapy\, entrepreneurship training\, and wellness programming. \n21+ Only | CAPACITY IS LIMITED!!! – secure your ticket now! \n\nLink to Tickets: https://eventhi.io/events/cannakick-it-day-party-12521
URL:https://urbananow.com/event/cannakick-it-day-party/
LOCATION:Urbana Oakland\, 415 W Grand Ave\, Oakland\, CA\, 94612\, United States
CATEGORIES:Oakland Events
ORGANIZER;CN="Urbana Weed Dispensary":MAILTO:marketing@urbananow.com
END:VEVENT
BEGIN:VEVENT
DTSTART;TZID=America/Los_Angeles:20250918T180000
DTEND;TZID=America/Los_Angeles:20250918T200000
DTSTAMP:20260421T082946
CREATED:20250831T155949Z
LAST-MODIFIED:20250831T162941Z
UID:10000351-1758218400-1758225600@urbananow.com
SUMMARY:Craft Cannabis Cocktail Class & Flower Tasting Night
DESCRIPTION:Thursday\, September 18th \n🕕 6–8 PM \nAn elevated evening of cannabis\, cocktails\, and community. 🌿✨ \nHosted by: The Herb Somm\, Jamie Evans & Greenline \n🍹 Enjoy 1–2 signature infused mocktails🌸 Explore curated flower tastings🎶 Connect\, sip\, and celebrate in good company \nRSVP HERE
URL:https://urbananow.com/event/craft-cannabis-cocktail-class-flower-tasting-night/
LOCATION:Urbana Oakland\, 415 W Grand Ave\, Oakland\, CA\, 94612\, United States
CATEGORIES:Oakland Events
ORGANIZER;CN="Urbana Weed Dispensary":MAILTO:marketing@urbananow.com
END:VEVENT
BEGIN:VEVENT
DTSTART;TZID=America/Los_Angeles:20250906T130000
DTEND;TZID=America/Los_Angeles:20250906T160000
DTSTAMP:20260421T082946
CREATED:20250831T155420Z
LAST-MODIFIED:20250831T160012Z
UID:10000350-1757163600-1757174400@urbananow.com
SUMMARY:Pride Weekend with Manzanita Naturals
DESCRIPTION:Saturday\, September 6th \n🕐 1–4 PM \nSip\, celebrate\, and show your Pride! 🌈✨Join Manzanita Naturals at Urbana Oakland for a special Pride mocktail bar experience. \n🍹 Pride-themed infused mocktails🌿 Community vibes & celebration🎉 Perfect kickoff to your Saturday Pride party
URL:https://urbananow.com/event/pride-weekend-with-manzanita-naturals/
LOCATION:Urbana Oakland\, 415 W Grand Ave\, Oakland\, CA\, 94612\, United States
CATEGORIES:Oakland Events
ORGANIZER;CN="Urbana Weed Dispensary":MAILTO:marketing@urbananow.com
END:VEVENT
BEGIN:VEVENT
DTSTART;TZID=America/Los_Angeles:20250905T170000
DTEND;TZID=America/Los_Angeles:20250905T200000
DTSTAMP:20260421T082946
CREATED:20250831T155228Z
LAST-MODIFIED:20250831T160031Z
UID:10000349-1757091600-1757102400@urbananow.com
SUMMARY:FIRST FRIDAY x Oakland Pride!
DESCRIPTION:Friday\, September 5th \n🕔 5–8 PM \nCelebrate Oakland Pride with us during First Friday! 🌈✨Join Urbana Oakland for an evening of community\, music\, exclusive specials\, and good vibes. \n🎶 Curated Playlists🌿 Pride-inspired specials🎨 First Friday energy\, Pride spirit \nCome connect\, celebrate\, and kick off Pride weekend the Urbana way!
URL:https://urbananow.com/event/first-friday-x-oakland-pride/
LOCATION:Urbana Oakland\, 415 W Grand Ave\, Oakland\, CA\, 94612\, United States
CATEGORIES:Oakland Events
ORGANIZER;CN="Urbana Weed Dispensary":MAILTO:marketing@urbananow.com
END:VEVENT
BEGIN:VEVENT
DTSTART;TZID=America/Los_Angeles:20250829T170000
DTEND;TZID=America/Los_Angeles:20250829T200000
DTSTAMP:20260421T082946
CREATED:20250723T153417Z
LAST-MODIFIED:20250801T175400Z
UID:10000328-1756486800-1756497600@urbananow.com
SUMMARY:Dim Sum & Dabs with Buddies
DESCRIPTION:Friday\, August 29th \n🕔 5:00 PM – 8:00 PM \nJoin us for a flavorful night of Dim Sum & Dabs with Buddies at the Urbana Oakland Lounge! Enjoy tasty bites\, chill vibes\, and 30% off all Buddies products during the event. \nCome hungry\, leave happy—and lifted. \n21+ | Good vibes only
URL:https://urbananow.com/event/dim-sum-dabs-with-buddies-2/
LOCATION:Urbana Oakland\, 415 W Grand Ave\, Oakland\, CA\, 94612\, United States
CATEGORIES:Oakland Events
ORGANIZER;CN="Urbana Weed Dispensary":MAILTO:marketing@urbananow.com
END:VEVENT
END:VCALENDAR